BEGIN:VCALENDAR
VERSION:2.0
PRODID:-//Yadhavi Sports Academy - ECPv6.15.20//NONSGML v1.0//EN
CALSCALE:GREGORIAN
METHOD:PUBLISH
X-ORIGINAL-URL:https://www.yadhavisportsacademy.in
X-WR-CALDESC:Events for Yadhavi Sports Academy
REFRESH-INTERVAL;VALUE=DURATION:PT1H
X-Robots-Tag:noindex
X-PUBLISHED-TTL:PT1H
BEGIN:VTIMEZONE
TZID:Asia/Kolkata
BEGIN:STANDARD
TZOFFSETFROM:+0530
TZOFFSETTO:+0530
TZNAME:IST
DTSTART:20210101T000000
END:STANDARD
END:VTIMEZONE
BEGIN:VEVENT
DTSTART;VALUE=DATE:20260123
DTEND;VALUE=DATE:20260125
DTSTAMP:20260423T190303
CREATED:20260217T104354Z
LAST-MODIFIED:20260219T144136Z
UID:46116-1769126400-1769299199@www.yadhavisportsacademy.in
SUMMARY:Tada Camp - January 2026
DESCRIPTION:Set amidst nature\, Tada Camp provides children with an enriching outdoor experience focused on teamwork\, responsibility\, and self-care. Through structured activities and guided exploration\, participants learn to organize their belongings\, maintain personal hygiene\, manage time effectively\, and engage in cooperative group living. \nThis immersive camp nurtures confidence\, independence\, and essential life skills\, supporting children in becoming more responsible and self-reliant. \nSEO Keywords: Tada Camp\, outdoor learning for children\, life skills camp\, teamwork activities for kids\, independence training\, children’s development programs\, inclusive outdoor camps
URL:https://www.yadhavisportsacademy.in/event/tada-camp-january-2026/
CATEGORIES:Cultural Heritage,Environmental Awareness,Featured,Life Skills Development,Motor Development,Sports Training
ATTACH;FMTTYPE=image/jpeg:https://www.yadhavisportsacademy.in/wp-content/uploads/2026/02/tada-camp-2026.jpg
END:VEVENT
BEGIN:VEVENT
DTSTART;VALUE=DATE:20251204
DTEND;VALUE=DATE:20251208
DTSTAMP:20260423T190303
CREATED:20260212T123756Z
LAST-MODIFIED:20260217T103945Z
UID:45625-1764806400-1765151999@www.yadhavisportsacademy.in
SUMMARY:Oceanman Dubai 2025
DESCRIPTION:December 2025 | Dubai\, UAE \nFollowing our participation in Oceanman Goa 2025\, our academy swimmers went on to compete in Oceanman Dubai 2025. \nThis marked our academy’s first-ever participation in an international swimming event in Dubai — a significant milestone as we progressed from competing in the inaugural Oceanman event in India to stepping onto the global stage. \nThis journey from Goa to Dubai reflected our academy’s continued growth and unwavering commitment to providing international exposure and meaningful opportunities for our swimmers.
URL:https://www.yadhavisportsacademy.in/event/oceanman-dubai-2025/
CATEGORIES:Life Skills Development,Social Development,Sports Training,Swimming
ATTACH;FMTTYPE=image/jpeg:https://www.yadhavisportsacademy.in/wp-content/uploads/2026/02/oceanman-dubai-2025.jpg
END:VEVENT
BEGIN:VEVENT
DTSTART;VALUE=DATE:20251024
DTEND;VALUE=DATE:20251025
DTSTAMP:20260423T190303
CREATED:20260217T071834Z
LAST-MODIFIED:20260217T075712Z
UID:45889-1761264000-1761350399@www.yadhavisportsacademy.in
SUMMARY:Oceanman Goa 2025 – A Historic Beginning
DESCRIPTION:24th October 2025 | Goa\, India \nWe are proud to share a landmark achievement for our academy. On 24 October 2025\, Oceanman Goa 2025 marked the first-ever Oceanman event conducted in India by the internationally renowned organization Oceanman. \nOur academy participated with 40 swimmers in the Inspiration Category\, demonstrating determination\, teamwork\, and the spirit of inclusive sports. Being part of the inaugural Oceanman event in India was a proud and memorable milestone for our entire team. \nIn special recognition of their participation and performance\, our swimmers received commemorative tokens from the organisers along with an invitation to compete at Oceanman Dubai 2025\, opening doors to international exposure and future achievement.
URL:https://www.yadhavisportsacademy.in/event/oceanman-goa-2025-a-historic-beginning/
CATEGORIES:Featured,Life Skills Development,Social Development,Sports Training,Swimming
ATTACH;FMTTYPE=image/jpeg:https://www.yadhavisportsacademy.in/wp-content/uploads/2026/02/Goa-Swimathon-2025.jpg
END:VEVENT
BEGIN:VEVENT
DTSTART;TZID=Asia/Kolkata:20240201T080000
DTEND;TZID=Asia/Kolkata:20240204T170000
DTSTAMP:20260423T190303
CREATED:20260217T063044Z
LAST-MODIFIED:20260217T075551Z
UID:45886-1706774400-1707066000@www.yadhavisportsacademy.in
SUMMARY:World Record Swim | February 1 - 4\, 2024
DESCRIPTION:Cuddalore to Marina Beach | 165 Kilometers | 14 Young Champions | 4 Days \nFrom February 1 to February 4\, 2024\, a new chapter was written in endurance sports history. In an extraordinary display of courage\, discipline\, and unity\, 14 young swimmers completed a 165-kilometre relay swim from Cuddalore to the iconic shores of Marina Beach in Chennai. \nThis remarkable four-day ocean expedition stands as a testament to determination\, teamwork\, and the indomitable spirit of youth. Battling tides\, shifting currents\, fatigue\, and the unpredictability of open waters\, these young champions swam in relay format — each stroke contributing to a collective dream and each kilometre powered by shared purpose. \nThe Yadhavi Legacy\n“Yadhavi” is not just a name; it represents strength\, resilience\, and fearless ambition. Rooted in values that celebrate perseverance\, leadership\, and courage\, Yadhavi symbolises the determination to push beyond limits and redefine possibility. \nThis historic swim embodies that very spirit. What makes this achievement exceptional is not only the distance of 165 kilometres\, but the unity\, discipline\, and unwavering commitment behind it. Four days of relentless effort. Four days of unbreakable focus. Four days that transformed a bold vision into a record-setting reality. \nA Journey Through History and Waves\nThe route itself carries symbolic significance — connecting the coastal heritage of Cuddalore to Marina Beach\, one of India’s most renowned and historic shorelines. To conquer this stretch of the Bay of Bengal is to challenge both nature and self. \nThrough disciplined training\, strategic coordination\, expert supervision\, and extraordinary mental strength\, these 14 young swimmers proved that age is no barrier when passion\, preparation\, and teamwork lead the way. \nMore Than a Record\nThis achievement is more than a world record.It is a story of belief.It is a movement of inspiration.It is Yadhavi in action. \nTheir journey will inspire generations to dream bigger\, train harder\, and rise stronger. From the first dive to the final stroke at Marina Beach\, history was made — 165 kilometres of determination etched into the waves forever. \nThis is not just a milestone.This is Yadhavi history. \n		\n						\n						\n					\n			\n						\n				\n					YADHAVI SPORTS ACADEMY: WORLD RECORD SWIM
URL:https://www.yadhavisportsacademy.in/event/yadhavi-sports-academy-world-record-swim-february-1-4-2024/
CATEGORIES:Featured,Life Skills Development,Social Development,Sports Training,Swimming
ATTACH;FMTTYPE=image/jpeg:https://www.yadhavisportsacademy.in/wp-content/uploads/2026/02/yadhavi-sports-academy-world-record.jpg
END:VEVENT
BEGIN:VEVENT
DTSTART;VALUE=DATE:20230430
DTEND;VALUE=DATE:20230501
DTSTAMP:20260423T190303
CREATED:20260217T042702Z
LAST-MODIFIED:20260217T070858Z
UID:45893-1682812800-1682899199@www.yadhavisportsacademy.in
SUMMARY:Lakshay Krishnakumar – A Historic Journey Begins
DESCRIPTION:On 30 April 2023\, Chennai \nChampions are not born — they are built through vision\, dedication\, and the right guidance. \nOn 30 April 2023\, Lakshay Krishnakumar etched his name into history by achieving an Asian record in open water swimming. Long before the recognition\, medals\, and milestones\, his remarkable journey began at Yadhavi Sports Academy. \nAt our academy\, Lakshay’s talent was identified\, nurtured\, and refined through disciplined training\, technical excellence\, and unwavering belief in his potential. What began as a young swimmer’s dream evolved into a historic achievement through structured coaching\, perseverance\, and relentless practice. \nLakshay went on to complete an extraordinary 15-kilometre open water swim from Neelankarai to Marina Beach — a feat demanding endurance\, strength\, and exceptional mental resilience. This outstanding performance earned him recognition in an Asian record register and marked the beginning of a record-breaking journey. \nWhile Lakshay has continued to achieve new milestones\, the foundation of his success — discipline\, confidence\, and competitive spirit — was built at Yadhavi Sports Academy. \nHis journey is not just his victory; it is a proud chapter in our academy’s legacy. \nAt Yadhavi Sports Academy\, we don’t just train athletes — we create history.
URL:https://www.yadhavisportsacademy.in/event/lakshay-krishnakumar-a-historic-journey-begins/
CATEGORIES:Sports Training,Swimming
ATTACH;FMTTYPE=image/png:https://www.yadhavisportsacademy.in/wp-content/uploads/2026/02/Logn-Distance-Sea-Swimming-Yadhavi-Sport-Academy.png
END:VEVENT
BEGIN:VEVENT
DTSTART;VALUE=DATE:20220508
DTEND;VALUE=DATE:20220509
DTSTAMP:20260423T190303
CREATED:20250826T014354Z
LAST-MODIFIED:20260217T052458Z
UID:5638-1651968000-1652054399@www.yadhavisportsacademy.in
SUMMARY:Florid Kochi Swimathon 2022
DESCRIPTION:Florid Kochi Swimathon 2022\, India’s Largest River Swimathon \nThe Florid Kochi Swimathon 2022\, widely recognised as India’s largest river swimathon\, marked a historic moment in open-water swimming and inclusive sports participation. Held in Kochi\, this landmark event is known as South India’s first river swimathon and was inaugurated by Anwar Sadath. The event was organised in collaboration with Kerala Tourism and DTPC Ernakulam\, drawing national attention and participation. \nThe 2022 edition witnessed a record 233 swimmers\, including 112 participants from outside the state and 62 swimmers below 18 years of age\, making it one of the most inclusive and diverse open-water swimming events in the country. \nYadhavi Sports Academy proudly participated with a strong contingent of special needs swimmers and coaches. Nine special children successfully completed distances up to 2 kilometres alongside their coaches. In addition\, ten special children competed in the 5 km category\, ten special children in the 2 km category\, and two special children in the 400 m category\, all under the supervision of experienced swimming masters and Head Coach Sathish Sivakumar. Team coaches also competed in the 5 km\, 2 km\, and 400 m categories\, demonstrating leadership and endurance alongside the swimmers. \nAll participating children and coaches received medals and mementos in recognition of their determination\, courage\, and achievement. Their participation showcased resilience\, endurance\, and the effectiveness of adaptive swim training for children with special needs. \nThrough events like the Kochi Swimathon\, Yadhavi Sports Academy continues to promote inclusive sports\, build confidence\, and inspire communities by proving that determination and belief can overcome every barrier. \n 
URL:https://www.yadhavisportsacademy.in/event/florid-kochi-swimathon-2022-india_s-largest-river-swimathon/
CATEGORIES:Social Development,Sports Training,Swimming
ATTACH;FMTTYPE=image/jpeg:https://www.yadhavisportsacademy.in/wp-content/uploads/2025/08/event16.jpg
END:VEVENT
END:VCALENDAR