BEGIN:VCALENDAR
VERSION:2.0
PRODID:-//Yadhavi Sports Academy - ECPv6.15.20//NONSGML v1.0//EN
CALSCALE:GREGORIAN
METHOD:PUBLISH
X-ORIGINAL-URL:https://www.yadhavisportsacademy.in
X-WR-CALDESC:Events for Yadhavi Sports Academy
REFRESH-INTERVAL;VALUE=DURATION:PT1H
X-Robots-Tag:noindex
X-PUBLISHED-TTL:PT1H
BEGIN:VTIMEZONE
TZID:Asia/Kolkata
BEGIN:STANDARD
TZOFFSETFROM:+0530
TZOFFSETTO:+0530
TZNAME:IST
DTSTART:20210101T000000
END:STANDARD
END:VTIMEZONE
BEGIN:VEVENT
DTSTART;VALUE=DATE:20260123
DTEND;VALUE=DATE:20260125
DTSTAMP:20260425T160136
CREATED:20260217T104354Z
LAST-MODIFIED:20260219T144136Z
UID:46116-1769126400-1769299199@www.yadhavisportsacademy.in
SUMMARY:Tada Camp - January 2026
DESCRIPTION:Set amidst nature\, Tada Camp provides children with an enriching outdoor experience focused on teamwork\, responsibility\, and self-care. Through structured activities and guided exploration\, participants learn to organize their belongings\, maintain personal hygiene\, manage time effectively\, and engage in cooperative group living. \nThis immersive camp nurtures confidence\, independence\, and essential life skills\, supporting children in becoming more responsible and self-reliant. \nSEO Keywords: Tada Camp\, outdoor learning for children\, life skills camp\, teamwork activities for kids\, independence training\, children’s development programs\, inclusive outdoor camps
URL:https://www.yadhavisportsacademy.in/event/tada-camp-january-2026/
CATEGORIES:Cultural Heritage,Environmental Awareness,Featured,Life Skills Development,Motor Development,Sports Training
ATTACH;FMTTYPE=image/jpeg:https://www.yadhavisportsacademy.in/wp-content/uploads/2026/02/tada-camp-2026.jpg
END:VEVENT
BEGIN:VEVENT
DTSTART;VALUE=DATE:20240615
DTEND;VALUE=DATE:20240616
DTSTAMP:20260425T160136
CREATED:20260217T063510Z
LAST-MODIFIED:20260217T075610Z
UID:5618-1718409600-1718495999@www.yadhavisportsacademy.in
SUMMARY:A Day of Joy and Connection @ தமிழ் நிலம் தமிழ்ப் பண்ணை
DESCRIPTION:June 15\, 2024 – Saturday தமிழ் நிலம் தமிழ்ப் பண்ணை \nA Day of Joy and Connection: Yadhavi Foundation Takes Special Needs Children to the Farm\nOn a beautiful sunny morning\, surrounded by lush greenery and the vibrant sounds of nature\, Yadhavi Foundation organised a memorable outing dedicated to empowering and supporting children with special needs. The day trip to தமிழ் நிலம் தமிழ்ப் பண்ணை provided an opportunity for children to explore nature while fostering joy\, social connection\, sensory development\, and experiential learning. \nA Heartfelt Mission\nYadhavi Foundation is committed to inclusive development\, holistic support\, and creating meaningful opportunities for children with special needs. The organisation promotes community engagement\, social interaction\, and life skill development\, making nature-based learning experiences an essential part of its mission. \nEngaging Activities\nFollowing a delightful bullock cart ride\, the children participated in sensory-rich activities including pot breaking\, mud play\, pump-set bathing\, and water swings. These activities supported fine motor development\, sensory integration\, communication skills\, and confidence-building\, while encouraging teamwork and joyful participation. \nConnecting with Nature\nChildren explored the farm through touch\, sight\, and sound — feeling plant textures\, smelling herbs\, observing colours\, and listening to animals and rustling leaves. This immersive experience enhanced sensory stimulation\, environmental awareness\, and nature-based learning. \nBuilding Lifelong Memories\nParents joined the children for a closing gathering where they shared joyful moments and new friendships. Families expressed gratitude for the inclusive experience and recognised its positive impact on their children’s emotional well-being\, confidence\, and social development. \nContinuing the Journey\nThis farm visit was more than a recreational outing; it was a celebration of inclusive education\, experiential learning\, and community connection. Yadhavi Foundation remains dedicated to enriching the lives of children with special needs through programmes\, events\, and community experiences. \nAs the sun set\, the day left behind lasting memories and a meaningful step toward inclusivity\, understanding\, and empowerment for children of all abilities. \n		\n						\n						\n					\n			\n						\n				\n					A Day of Joy and Connection @ தமிழ் நிலம் தமிழ்ப் பண்ணை
URL:https://www.yadhavisportsacademy.in/event/a-day-of-joy-and-connection-%e0%ae%a4%e0%ae%ae%e0%ae%bf%e0%ae%b4%e0%af%8d-%e0%ae%a8%e0%ae%bf%e0%ae%b2%e0%ae%ae%e0%af%8d-%e0%ae%a4%e0%ae%ae%e0%ae%bf%e0%ae%b4%e0%af%8d%e0%ae%aa%e0%af%8d-%e0%ae%aa/
CATEGORIES:Emotional Well-Being,Environmental Awareness,Featured,Motor Development,Social Development
ATTACH;FMTTYPE=image/jpeg:https://www.yadhavisportsacademy.in/wp-content/uploads/2025/08/Yadhavi-Sports-Academy-Farm-Trip-9.jpg
END:VEVENT
BEGIN:VEVENT
DTSTART;VALUE=DATE:20220618
DTEND;VALUE=DATE:20220620
DTSTAMP:20260425T160136
CREATED:20250826T010850Z
LAST-MODIFIED:20260217T060013Z
UID:5620-1655510400-1655683199@www.yadhavisportsacademy.in
SUMMARY:NALS Coonoor Camp 2022 – Empowering Children with Special Needs
DESCRIPTION:18th – 19th June 2022 | NALS Outdoors\, Manjacombai\, Coonoor\, Nilgiris\, Tamil Nadu\, India \nYadhavi Sports Academy organized a transformative two-day camp for children with special needs\, focusing on life skills\, social interaction\, independence\, confidence\, and neuromuscular development. Around 20 families and 10 coaching staff traveled with the children to NALS Outdoors\, supported by an expert 8-member NALS team. \nDay 1: Children participated in challenging yet safe activities\, including the rope walk with forward\, sideways\, and controlled drops\, building courage\, balance\, and confidence. Overnight dormitory stays encouraged peer bonding\, social engagement\, and independence. \nDay 2: The program included a 4 km guided trek through Nilgiri forests and a 30-feet rappelling exercise\, helping children develop neuromuscular strength\, coordination\, and self-reliance. All activities were completed independently\, allowing parents to witness their children’s growing confidence and capabilities. \nParents and children alike left the camp rejuvenated\, inspired\, and proud\, with families forming a supportive community. The NALS Coonoor Camp reinforced Yadhavi Sports Academy’s mission to empower children with special needs through adventure\, structured skill development\, and inclusive experiences. \nSEO Keywords: NALS Coonoor Camp 2022\, Yadhavi Sports Academy\, special needs children camp\, inclusive outdoor activities\, life skills development India\, independence training for children\, adaptive learning programs\, confidence building for special needs kids
URL:https://www.yadhavisportsacademy.in/event/the-nals-coonoor-camp-for-children-with-special-needs/
CATEGORIES:Life Skills Development,Motor Development,Social Development
ATTACH;FMTTYPE=image/jpeg:https://www.yadhavisportsacademy.in/wp-content/uploads/2025/08/event7.jpg
END:VEVENT
END:VCALENDAR